BEGIN:VCALENDAR
VERSION:2.0
PRODID:-//Meatmaster SA - ECPv6.15.9//NONSGML v1.0//EN
CALSCALE:GREGORIAN
METHOD:PUBLISH
X-WR-CALNAME:Meatmaster SA
X-ORIGINAL-URL:https://meatmastersa.co.za
X-WR-CALDESC:Events for Meatmaster SA
REFRESH-INTERVAL;VALUE=DURATION:PT1H
X-Robots-Tag:noindex
X-PUBLISHED-TTL:PT1H
BEGIN:VTIMEZONE
TZID:Europe/Helsinki
BEGIN:DAYLIGHT
TZOFFSETFROM:+0200
TZOFFSETTO:+0300
TZNAME:EEST
DTSTART:20250330T010000
END:DAYLIGHT
BEGIN:STANDARD
TZOFFSETFROM:+0300
TZOFFSETTO:+0200
TZNAME:EET
DTSTART:20251026T010000
END:STANDARD
BEGIN:DAYLIGHT
TZOFFSETFROM:+0200
TZOFFSETTO:+0300
TZNAME:EEST
DTSTART:20260329T010000
END:DAYLIGHT
BEGIN:STANDARD
TZOFFSETFROM:+0300
TZOFFSETTO:+0200
TZNAME:EET
DTSTART:20261025T010000
END:STANDARD
BEGIN:DAYLIGHT
TZOFFSETFROM:+0200
TZOFFSETTO:+0300
TZNAME:EEST
DTSTART:20270328T010000
END:DAYLIGHT
BEGIN:STANDARD
TZOFFSETFROM:+0300
TZOFFSETTO:+0200
TZNAME:EET
DTSTART:20271031T010000
END:STANDARD
END:VTIMEZONE
BEGIN:VEVENT
DTSTART;TZID=Europe/Helsinki:20260627T103000
DTEND;TZID=Europe/Helsinki:20260627T170000
DTSTAMP:20260423T145019
CREATED:20260205T084638Z
LAST-MODIFIED:20260205T084638Z
UID:1928-1782556200-1782579600@meatmastersa.co.za
SUMMARY:Langkloof Game Farm veiling
DESCRIPTION:
URL:https://meatmastersa.co.za/event/langkloof-game-farm-veiling/
LOCATION:Fire & Wine Venue\, Pretoria\, South Africa
END:VEVENT
END:VCALENDAR