BEGIN:VCALENDAR
VERSION:2.0
PRODID:-//Meatmaster SA - ECPv6.15.9//NONSGML v1.0//EN
CALSCALE:GREGORIAN
METHOD:PUBLISH
X-WR-CALNAME:Meatmaster SA
X-ORIGINAL-URL:https://meatmastersa.co.za
X-WR-CALDESC:Events for Meatmaster SA
REFRESH-INTERVAL;VALUE=DURATION:PT1H
X-Robots-Tag:noindex
X-PUBLISHED-TTL:PT1H
BEGIN:VTIMEZONE
TZID:Europe/Helsinki
BEGIN:DAYLIGHT
TZOFFSETFROM:+0200
TZOFFSETTO:+0300
TZNAME:EEST
DTSTART:20250330T010000
END:DAYLIGHT
BEGIN:STANDARD
TZOFFSETFROM:+0300
TZOFFSETTO:+0200
TZNAME:EET
DTSTART:20251026T010000
END:STANDARD
BEGIN:DAYLIGHT
TZOFFSETFROM:+0200
TZOFFSETTO:+0300
TZNAME:EEST
DTSTART:20260329T010000
END:DAYLIGHT
BEGIN:STANDARD
TZOFFSETFROM:+0300
TZOFFSETTO:+0200
TZNAME:EET
DTSTART:20261025T010000
END:STANDARD
BEGIN:DAYLIGHT
TZOFFSETFROM:+0200
TZOFFSETTO:+0300
TZNAME:EEST
DTSTART:20270328T010000
END:DAYLIGHT
BEGIN:STANDARD
TZOFFSETFROM:+0300
TZOFFSETTO:+0200
TZNAME:EET
DTSTART:20271031T010000
END:STANDARD
END:VTIMEZONE
BEGIN:VEVENT
DTSTART;TZID=Europe/Helsinki:20260904T080000
DTEND;TZID=Europe/Helsinki:20260904T170000
DTSTAMP:20260423T145622
CREATED:20260205T093825Z
LAST-MODIFIED:20260205T093825Z
UID:1944-1788508800-1788541200@meatmastersa.co.za
SUMMARY:Transveld Meatmaster klub veiling
DESCRIPTION:
URL:https://meatmastersa.co.za/event/transveld-meatmaster-klub-veiling-4/
LOCATION:Fire & Wine Venue\, Pretoria\, South Africa
END:VEVENT
BEGIN:VEVENT
DTSTART;TZID=Europe/Helsinki:20260912T103000
DTEND;TZID=Europe/Helsinki:20260912T170000
DTSTAMP:20260423T145622
CREATED:20260205T095347Z
LAST-MODIFIED:20260311T091035Z
UID:1948-1789209000-1789232400@meatmastersa.co.za
SUMMARY:Ivoor Meatmaster veiling
DESCRIPTION:
URL:https://meatmastersa.co.za/event/ivoor-meatmaster-veiling/
LOCATION:Engedi Manor\, Krugersdorp
END:VEVENT
BEGIN:VEVENT
DTSTART;TZID=Europe/Helsinki:20260917T110000
DTEND;TZID=Europe/Helsinki:20260917T170000
DTSTAMP:20260423T145622
CREATED:20250521T100515Z
LAST-MODIFIED:20260311T093059Z
UID:1790-1789642800-1789664400@meatmastersa.co.za
SUMMARY:Leliekrans Meatmasters
DESCRIPTION:
URL:https://meatmastersa.co.za/event/leliekrans-meatmasters-2/
LOCATION:Calvinia
END:VEVENT
BEGIN:VEVENT
DTSTART;TZID=Europe/Helsinki:20261003T110000
DTEND;TZID=Europe/Helsinki:20261003T170000
DTSTAMP:20260423T145622
CREATED:20250521T100737Z
LAST-MODIFIED:20260311T093232Z
UID:1797-1791025200-1791046800@meatmastersa.co.za
SUMMARY:Collen Boerdery
DESCRIPTION:
URL:https://meatmastersa.co.za/event/collen-boerdery/
LOCATION:Fire & Wine Venue\, Pretoria\, South Africa
END:VEVENT
BEGIN:VEVENT
DTSTART;TZID=Europe/Helsinki:20261003T110000
DTEND;TZID=Europe/Helsinki:20261003T170000
DTSTAMP:20260423T145622
CREATED:20250521T100827Z
LAST-MODIFIED:20260311T093352Z
UID:1799-1791025200-1791046800@meatmastersa.co.za
SUMMARY:Platinum Veiling
DESCRIPTION:
URL:https://meatmastersa.co.za/event/platinum-veiling-2/
LOCATION:Bloemfontein
END:VEVENT
BEGIN:VEVENT
DTSTART;TZID=Europe/Helsinki:20261017T110000
DTEND;TZID=Europe/Helsinki:20261017T170000
DTSTAMP:20260423T145622
CREATED:20250521T101029Z
LAST-MODIFIED:20260311T093442Z
UID:1801-1792234800-1792256400@meatmastersa.co.za
SUMMARY:Kalahari Karoo Groep
DESCRIPTION:
URL:https://meatmastersa.co.za/event/kalahari-karoo-groep-3/
LOCATION:Upington
END:VEVENT
BEGIN:VEVENT
DTSTART;VALUE=DATE:20261104
DTEND;VALUE=DATE:20261106
DTSTAMP:20260423T145622
CREATED:20260311T093652Z
LAST-MODIFIED:20260311T093652Z
UID:1955-1793750400-1793923199@meatmastersa.co.za
SUMMARY:Internasionale Meatmaster veiling
DESCRIPTION:
URL:https://meatmastersa.co.za/event/internasionale-meatmaster-veiling-3/
END:VEVENT
END:VCALENDAR