BEGIN:VCALENDAR
VERSION:2.0
PRODID:-//Meatmaster SA - ECPv6.15.9//NONSGML v1.0//EN
CALSCALE:GREGORIAN
METHOD:PUBLISH
X-WR-CALNAME:Meatmaster SA
X-ORIGINAL-URL:https://meatmastersa.co.za
X-WR-CALDESC:Events for Meatmaster SA
REFRESH-INTERVAL;VALUE=DURATION:PT1H
X-Robots-Tag:noindex
X-PUBLISHED-TTL:PT1H
BEGIN:VTIMEZONE
TZID:Europe/Helsinki
BEGIN:DAYLIGHT
TZOFFSETFROM:+0200
TZOFFSETTO:+0300
TZNAME:EEST
DTSTART:20230326T010000
END:DAYLIGHT
BEGIN:STANDARD
TZOFFSETFROM:+0300
TZOFFSETTO:+0200
TZNAME:EET
DTSTART:20231029T010000
END:STANDARD
BEGIN:DAYLIGHT
TZOFFSETFROM:+0200
TZOFFSETTO:+0300
TZNAME:EEST
DTSTART:20240331T010000
END:DAYLIGHT
BEGIN:STANDARD
TZOFFSETFROM:+0300
TZOFFSETTO:+0200
TZNAME:EET
DTSTART:20241027T010000
END:STANDARD
BEGIN:DAYLIGHT
TZOFFSETFROM:+0200
TZOFFSETTO:+0300
TZNAME:EEST
DTSTART:20250330T010000
END:DAYLIGHT
BEGIN:STANDARD
TZOFFSETFROM:+0300
TZOFFSETTO:+0200
TZNAME:EET
DTSTART:20251026T010000
END:STANDARD
BEGIN:DAYLIGHT
TZOFFSETFROM:+0200
TZOFFSETTO:+0300
TZNAME:EEST
DTSTART:20260329T010000
END:DAYLIGHT
BEGIN:STANDARD
TZOFFSETFROM:+0300
TZOFFSETTO:+0200
TZNAME:EET
DTSTART:20261025T010000
END:STANDARD
END:VTIMEZONE
BEGIN:VEVENT
DTSTART;TZID=Europe/Helsinki:20250524T110000
DTEND;TZID=Europe/Helsinki:20250524T170000
DTSTAMP:20260423T194800
CREATED:20250513T064822Z
LAST-MODIFIED:20250513T064822Z
UID:1767-1748084400-1748106000@meatmastersa.co.za
SUMMARY:Bosveld Meatmaster Klub veiling
DESCRIPTION:
URL:https://meatmastersa.co.za/event/bosveld-meatmaster-klub-veiling/
LOCATION:Bela-Bela
END:VEVENT
BEGIN:VEVENT
DTSTART;TZID=Europe/Helsinki:20250522T110000
DTEND;TZID=Europe/Helsinki:20250522T170000
DTSTAMP:20260423T194800
CREATED:20250513T064700Z
LAST-MODIFIED:20250513T064700Z
UID:1764-1747911600-1747933200@meatmastersa.co.za
SUMMARY:Sentraal Karoo Meatmaster Groep
DESCRIPTION:
URL:https://meatmastersa.co.za/event/sentraal-karoo-meatmaster-groep/
LOCATION:Graaf Reinett
END:VEVENT
BEGIN:VEVENT
DTSTART;TZID=Europe/Helsinki:20250522T110000
DTEND;TZID=Europe/Helsinki:20250522T170000
DTSTAMP:20260423T194800
CREATED:20250110T090321Z
LAST-MODIFIED:20250110T090321Z
UID:1737-1747911600-1747933200@meatmastersa.co.za
SUMMARY:Burger\, Volstoom en du Toit Meatmasters
DESCRIPTION:
URL:https://meatmastersa.co.za/event/burger-volstoom-en-du-toit-meatmasters-2/
LOCATION:Pretoria
END:VEVENT
BEGIN:VEVENT
DTSTART;TZID=Europe/Helsinki:20250510T110000
DTEND;TZID=Europe/Helsinki:20250510T170000
DTSTAMP:20260423T194800
CREATED:20250513T064546Z
LAST-MODIFIED:20250513T064546Z
UID:1761-1746874800-1746896400@meatmastersa.co.za
SUMMARY:Young Guns
DESCRIPTION:
URL:https://meatmastersa.co.za/event/young-guns/
LOCATION:Fire & Wine Venue\, Pretoria\, South Africa
END:VEVENT
BEGIN:VEVENT
DTSTART;TZID=Europe/Helsinki:20250508T110000
DTEND;TZID=Europe/Helsinki:20250508T170000
DTSTAMP:20260423T194800
CREATED:20250110T090146Z
LAST-MODIFIED:20250110T090146Z
UID:1734-1746702000-1746723600@meatmastersa.co.za
SUMMARY:Kalahari Karoo Groep
DESCRIPTION:
URL:https://meatmastersa.co.za/event/kalahari-karoo-groep-2/
LOCATION:Upington
END:VEVENT
BEGIN:VEVENT
DTSTART;TZID=Europe/Helsinki:20250503T080000
DTEND;TZID=Europe/Helsinki:20250503T170000
DTSTAMP:20260423T194800
CREATED:20250513T064401Z
LAST-MODIFIED:20250513T064401Z
UID:1758-1746259200-1746291600@meatmastersa.co.za
SUMMARY:Oostelike Meatmaster klub veiling
DESCRIPTION:
URL:https://meatmastersa.co.za/event/oostelike-meatmaster-klub-veiling-2/
LOCATION:standerton
END:VEVENT
BEGIN:VEVENT
DTSTART;TZID=Europe/Helsinki:20250418T110000
DTEND;TZID=Europe/Helsinki:20250418T170000
DTSTAMP:20260423T194800
CREATED:20250110T085942Z
LAST-MODIFIED:20250110T085942Z
UID:1732-1744974000-1744995600@meatmastersa.co.za
SUMMARY:Meatmaster Alliance Groep
DESCRIPTION:
URL:https://meatmastersa.co.za/event/meatmaster-alliance-groep-2/
LOCATION:Jacobsdal skougronde
END:VEVENT
BEGIN:VEVENT
DTSTART;TZID=Europe/Helsinki:20250412T110000
DTEND;TZID=Europe/Helsinki:20250412T170000
DTSTAMP:20260423T194800
CREATED:20250110T085806Z
LAST-MODIFIED:20250110T085806Z
UID:1729-1744455600-1744477200@meatmastersa.co.za
SUMMARY:Swartberg Meatmaster groep
DESCRIPTION:
URL:https://meatmastersa.co.za/event/swartberg-meatmaster-groep/
LOCATION:Oudsthoorn
END:VEVENT
BEGIN:VEVENT
DTSTART;TZID=Europe/Helsinki:20250405T110000
DTEND;TZID=Europe/Helsinki:20250405T170000
DTSTAMP:20260423T194800
CREATED:20250110T085635Z
LAST-MODIFIED:20250110T085635Z
UID:1726-1743850800-1743872400@meatmastersa.co.za
SUMMARY:Vrystaat Meatmaster klub
DESCRIPTION:
URL:https://meatmastersa.co.za/event/vrystaat-meatmaster-klub/
LOCATION:Bloemfontein
END:VEVENT
BEGIN:VEVENT
DTSTART;TZID=Europe/Helsinki:20250315T110000
DTEND;TZID=Europe/Helsinki:20250315T170000
DTSTAMP:20260423T194800
CREATED:20250110T085355Z
LAST-MODIFIED:20250110T085355Z
UID:1722-1742036400-1742058000@meatmastersa.co.za
SUMMARY:Ochre Meatmasters
DESCRIPTION:
URL:https://meatmastersa.co.za/event/ochre-meatmasters/
LOCATION:Drie Susters
END:VEVENT
BEGIN:VEVENT
DTSTART;TZID=Europe/Helsinki:20250308T110000
DTEND;TZID=Europe/Helsinki:20250308T170000
DTSTAMP:20260423T194800
CREATED:20250110T085135Z
LAST-MODIFIED:20250110T085135Z
UID:1720-1741431600-1741453200@meatmastersa.co.za
SUMMARY:Out of Africa veiling
DESCRIPTION:
URL:https://meatmastersa.co.za/event/out-of-africa-veiling/
LOCATION:Parys
END:VEVENT
BEGIN:VEVENT
DTSTART;TZID=Europe/Helsinki:20250301T110000
DTEND;TZID=Europe/Helsinki:20250301T170000
DTSTAMP:20260423T194800
CREATED:20250110T084656Z
LAST-MODIFIED:20250110T084830Z
UID:1714-1740826800-1740848400@meatmastersa.co.za
SUMMARY:Doornpoort Genetics
DESCRIPTION:
URL:https://meatmastersa.co.za/event/kalahari-karoo-groep/
LOCATION:Bela-Bela
END:VEVENT
BEGIN:VEVENT
DTSTART;TZID=Europe/Helsinki:20250208T080000
DTEND;TZID=Europe/Helsinki:20250208T170000
DTSTAMP:20260423T194800
CREATED:20240328T124050Z
LAST-MODIFIED:20250110T084226Z
UID:1533-1739001600-1739034000@meatmastersa.co.za
SUMMARY:Lasarus Game Farm veiling
DESCRIPTION:
URL:https://meatmastersa.co.za/event/gelykfontein-stoet-2/
END:VEVENT
BEGIN:VEVENT
DTSTART;TZID=Europe/Helsinki:20250131T110000
DTEND;TZID=Europe/Helsinki:20250131T170000
DTSTAMP:20260423T194800
CREATED:20240508T104125Z
LAST-MODIFIED:20250108T125404Z
UID:1628-1738321200-1738342800@meatmastersa.co.za
SUMMARY:Transvel Klub veiling
DESCRIPTION:
URL:https://meatmastersa.co.za/event/internasionale-meatmaster-veiling/
LOCATION:Pretoria
CATEGORIES:Auctions
END:VEVENT
BEGIN:VEVENT
DTSTART;TZID=Europe/Helsinki:20241026T110000
DTEND;TZID=Europe/Helsinki:20241026T170000
DTSTAMP:20260423T194800
CREATED:20240508T103849Z
LAST-MODIFIED:20240510T015744Z
UID:1624-1729940400-1729962000@meatmastersa.co.za
SUMMARY:Gannabos veiling
DESCRIPTION:Gannabos MM Veiling
URL:https://meatmastersa.co.za/event/gannabos-veiling/
LOCATION:Frasenburg Skougronde
CATEGORIES:Auctions
END:VEVENT
BEGIN:VEVENT
DTSTART;TZID=Europe/Helsinki:20240926T080000
DTEND;TZID=Europe/Helsinki:20240926T170000
DTSTAMP:20260423T194800
CREATED:20240508T103744Z
LAST-MODIFIED:20240508T103744Z
UID:1622-1727337600-1727370000@meatmastersa.co.za
SUMMARY:Sentraal Binneland Klub Veiling
DESCRIPTION:
URL:https://meatmastersa.co.za/event/sentraal-binneland-klub-veiling/
LOCATION:kimberley
CATEGORIES:Auctions
END:VEVENT
BEGIN:VEVENT
DTSTART;TZID=Europe/Helsinki:20240921T110000
DTEND;TZID=Europe/Helsinki:20240921T170000
DTSTAMP:20260423T194800
CREATED:20240508T103654Z
LAST-MODIFIED:20240508T103654Z
UID:1620-1726916400-1726938000@meatmastersa.co.za
SUMMARY:Platinum Veiling
DESCRIPTION:
URL:https://meatmastersa.co.za/event/platinum-veiling/
LOCATION:Parys
CATEGORIES:Auctions
END:VEVENT
BEGIN:VEVENT
DTSTART;TZID=Europe/Helsinki:20240912T110000
DTEND;TZID=Europe/Helsinki:20240912T170000
DTSTAMP:20260423T194800
CREATED:20240508T104324Z
LAST-MODIFIED:20240508T104324Z
UID:1630-1726138800-1726160400@meatmastersa.co.za
SUMMARY:Leliekrans Meatmasters
DESCRIPTION:
URL:https://meatmastersa.co.za/event/leliekrans-meatmasters/
CATEGORIES:Auctions
END:VEVENT
BEGIN:VEVENT
DTSTART;TZID=Europe/Helsinki:20240904T110000
DTEND;TZID=Europe/Helsinki:20240904T170000
DTSTAMP:20260423T194801
CREATED:20240508T103559Z
LAST-MODIFIED:20240508T103559Z
UID:1617-1725447600-1725469200@meatmastersa.co.za
SUMMARY:Sterkfontein Meatmaster veiling
DESCRIPTION:
URL:https://meatmastersa.co.za/event/sterkfontein-meatmaster-veiling/
LOCATION:Bloemfontein
CATEGORIES:Auctions
END:VEVENT
BEGIN:VEVENT
DTSTART;TZID=Europe/Helsinki:20240831T110000
DTEND;TZID=Europe/Helsinki:20240831T170000
DTSTAMP:20260423T194801
CREATED:20240508T103204Z
LAST-MODIFIED:20240508T103204Z
UID:1612-1725102000-1725123600@meatmastersa.co.za
SUMMARY:Transveld Meatmaster Klub veiling
DESCRIPTION:
URL:https://meatmastersa.co.za/event/transveld-meatmaster-klub-veiling-2/
LOCATION:Fire & Wine Venue\, Pretoria\, South Africa
END:VEVENT
BEGIN:VEVENT
DTSTART;TZID=Europe/Helsinki:20240813T080000
DTEND;TZID=Europe/Helsinki:20240815T170000
DTSTAMP:20260423T194801
CREATED:20240508T103324Z
LAST-MODIFIED:20240510T020019Z
UID:1614-1723536000-1723741200@meatmastersa.co.za
SUMMARY:Nasionale veiling Expo
DESCRIPTION:
URL:https://meatmastersa.co.za/event/nasioanle-veiling-expo/
LOCATION:Bloemfontein Skougronde
CATEGORIES:Auctions
END:VEVENT
BEGIN:VEVENT
DTSTART;TZID=Europe/Helsinki:20240629T110000
DTEND;TZID=Europe/Helsinki:20240629T170000
DTSTAMP:20260423T194801
CREATED:20240508T102730Z
LAST-MODIFIED:20240508T102925Z
UID:1609-1719658800-1719680400@meatmastersa.co.za
SUMMARY:Langkloof Meatmasters
DESCRIPTION:
URL:https://meatmastersa.co.za/event/langkloof-meatmasters/
LOCATION:Pretoria
CATEGORIES:Auctions
END:VEVENT
BEGIN:VEVENT
DTSTART;TZID=Europe/Helsinki:20240601T110000
DTEND;TZID=Europe/Helsinki:20240601T170000
DTSTAMP:20260423T194801
CREATED:20240214T102856Z
LAST-MODIFIED:20240510T021309Z
UID:1501-1717239600-1717261200@meatmastersa.co.za
SUMMARY:Dorrland Groep veiling
DESCRIPTION:
URL:https://meatmastersa.co.za/event/dorrland-groep-veiling/
LOCATION:Parys
END:VEVENT
BEGIN:VEVENT
DTSTART;TZID=Europe/Helsinki:20240530T110000
DTEND;TZID=Europe/Helsinki:20240530T170000
DTSTAMP:20260423T194801
CREATED:20240214T102711Z
LAST-MODIFIED:20240214T102711Z
UID:1497-1717066800-1717088400@meatmastersa.co.za
SUMMARY:Burger\, Volstoom en du Toit Meatmasters
DESCRIPTION:
URL:https://meatmastersa.co.za/event/burger-volstoom-en-du-toit-meatmasters/
LOCATION:kimberley
CATEGORIES:Auctions
END:VEVENT
BEGIN:VEVENT
DTSTART;TZID=Europe/Helsinki:20240525T110000
DTEND;TZID=Europe/Helsinki:20240525T170000
DTSTAMP:20260423T194801
CREATED:20240212T102033Z
LAST-MODIFIED:20240212T102033Z
UID:1489-1716634800-1716656400@meatmastersa.co.za
SUMMARY:Bosveld Klub veiling
DESCRIPTION:
URL:https://meatmastersa.co.za/event/bosveld-klub-veiling/
END:VEVENT
BEGIN:VEVENT
DTSTART;TZID=Europe/Helsinki:20240523T110000
DTEND;TZID=Europe/Helsinki:20240523T170000
DTSTAMP:20260423T194801
CREATED:20240510T015609Z
LAST-MODIFIED:20240510T015609Z
UID:1632-1716462000-1716483600@meatmastersa.co.za
SUMMARY:Sentraal Karoo veiling
DESCRIPTION:Sentraal karoo veiling
URL:https://meatmastersa.co.za/event/sentraal-karoo-veiling/
LOCATION:Graaf Reinett
CATEGORIES:Auctions
END:VEVENT
BEGIN:VEVENT
DTSTART;TZID=Europe/Helsinki:20240504T110000
DTEND;TZID=Europe/Helsinki:20240504T170000
DTSTAMP:20260423T194801
CREATED:20240212T101805Z
LAST-MODIFIED:20240212T101805Z
UID:1485-1714820400-1714842000@meatmastersa.co.za
SUMMARY:Oostelike Meatmaster Klub Veiling
DESCRIPTION:
URL:https://meatmastersa.co.za/event/oostelike-meatmaster-klub-veiling/
LOCATION:standerton
END:VEVENT
BEGIN:VEVENT
DTSTART;TZID=Europe/Helsinki:20240420T110000
DTEND;TZID=Europe/Helsinki:20240420T170000
DTSTAMP:20260423T194801
CREATED:20240130T091413Z
LAST-MODIFIED:20240130T091414Z
UID:1463-1713610800-1713632400@meatmastersa.co.za
SUMMARY:Young Guns Meatmaster veiling
DESCRIPTION:
URL:https://meatmastersa.co.za/event/young-guns-meatmaster-veiling/
LOCATION:Fire & Wine Venue\, Pretoria\, South Africa
END:VEVENT
BEGIN:VEVENT
DTSTART;TZID=Europe/Helsinki:20240419T110000
DTEND;TZID=Europe/Helsinki:20240419T170000
DTSTAMP:20260423T194801
CREATED:20240328T124240Z
LAST-MODIFIED:20240328T124240Z
UID:1535-1713524400-1713546000@meatmastersa.co.za
SUMMARY:Meatmaster Alliance Groep
DESCRIPTION:
URL:https://meatmastersa.co.za/event/meatmaster-alliance-groep/
LOCATION:Jacobsdal skougronde
END:VEVENT
BEGIN:VEVENT
DTSTART;TZID=Europe/Helsinki:20240411T110000
DTEND;TZID=Europe/Helsinki:20240411T170000
DTSTAMP:20260423T194801
CREATED:20240328T123620Z
LAST-MODIFIED:20240328T123914Z
UID:1527-1712833200-1712854800@meatmastersa.co.za
SUMMARY:Meyerfontein Meatmasters
DESCRIPTION:
URL:https://meatmastersa.co.za/event/gelykfontein-stoet/
END:VEVENT
END:VCALENDAR