BEGIN:VCALENDAR
VERSION:2.0
PRODID:-//Meatmaster SA - ECPv6.15.9//NONSGML v1.0//EN
CALSCALE:GREGORIAN
METHOD:PUBLISH
X-WR-CALNAME:Meatmaster SA
X-ORIGINAL-URL:https://meatmastersa.co.za
X-WR-CALDESC:Events for Meatmaster SA
REFRESH-INTERVAL;VALUE=DURATION:PT1H
X-Robots-Tag:noindex
X-PUBLISHED-TTL:PT1H
BEGIN:VTIMEZONE
TZID:Europe/Helsinki
BEGIN:DAYLIGHT
TZOFFSETFROM:+0200
TZOFFSETTO:+0300
TZNAME:EEST
DTSTART:20230326T010000
END:DAYLIGHT
BEGIN:STANDARD
TZOFFSETFROM:+0300
TZOFFSETTO:+0200
TZNAME:EET
DTSTART:20231029T010000
END:STANDARD
BEGIN:DAYLIGHT
TZOFFSETFROM:+0200
TZOFFSETTO:+0300
TZNAME:EEST
DTSTART:20240331T010000
END:DAYLIGHT
BEGIN:STANDARD
TZOFFSETFROM:+0300
TZOFFSETTO:+0200
TZNAME:EET
DTSTART:20241027T010000
END:STANDARD
BEGIN:DAYLIGHT
TZOFFSETFROM:+0200
TZOFFSETTO:+0300
TZNAME:EEST
DTSTART:20250330T010000
END:DAYLIGHT
BEGIN:STANDARD
TZOFFSETFROM:+0300
TZOFFSETTO:+0200
TZNAME:EET
DTSTART:20251026T010000
END:STANDARD
END:VTIMEZONE
BEGIN:VEVENT
DTSTART;TZID=Europe/Helsinki:20240229T110000
DTEND;TZID=Europe/Helsinki:20240229T170000
DTSTAMP:20260424T025212
CREATED:20240123T101921Z
LAST-MODIFIED:20240130T085628Z
UID:1444-1709204400-1709226000@meatmastersa.co.za
SUMMARY:Collett Farming cc Veiling
DESCRIPTION:
URL:https://meatmastersa.co.za/event/collett-farming-cc-veiling/
LOCATION:Plaas La Rochelle\, Plaas La Rochelle\, Bethulie\, R405
CATEGORIES:Auctions
ATTACH;FMTTYPE=image/jpeg:https://meatmastersa.co.za/wp-content/uploads/2024/01/WhatsApp-Image-2024-01-23-at-11.18.51_2825ddd1.jpg
END:VEVENT
BEGIN:VEVENT
DTSTART;TZID=Europe/Helsinki:20240202T080000
DTEND;TZID=Europe/Helsinki:20240202T170000
DTSTAMP:20260424T025212
CREATED:20240130T075926Z
LAST-MODIFIED:20240130T081145Z
UID:1456-1706860800-1706893200@meatmastersa.co.za
SUMMARY:Transveld Klub Veiling
DESCRIPTION:
URL:https://meatmastersa.co.za/event/transveld-klub-veiling/
LOCATION:Pretoria
CATEGORIES:Auctions
ATTACH;FMTTYPE=image/jpeg:https://meatmastersa.co.za/wp-content/uploads/2022/08/generic-auction.jpg
END:VEVENT
BEGIN:VEVENT
DTSTART;TZID=Europe/Helsinki:20240125T110000
DTEND;TZID=Europe/Helsinki:20240125T170000
DTSTAMP:20260424T025212
CREATED:20240123T101649Z
LAST-MODIFIED:20240123T101649Z
UID:1439-1706180400-1706202000@meatmastersa.co.za
SUMMARY:Bietou Meatmasters Veiling
DESCRIPTION:
URL:https://meatmastersa.co.za/event/bietou-meatmasters-veiling/
LOCATION:Prins Albert Skougronde
CATEGORIES:Auctions
ATTACH;FMTTYPE=image/jpeg:https://meatmastersa.co.za/wp-content/uploads/2024/01/WhatsApp-Image-2024-01-23-at-11.16.51_d6e38f1e.jpg
END:VEVENT
END:VCALENDAR