BEGIN:VCALENDAR
VERSION:2.0
PRODID:-//Meatmaster SA - ECPv6.15.9//NONSGML v1.0//EN
CALSCALE:GREGORIAN
METHOD:PUBLISH
X-ORIGINAL-URL:https://meatmastersa.co.za
X-WR-CALDESC:Events for Meatmaster SA
REFRESH-INTERVAL;VALUE=DURATION:PT1H
X-Robots-Tag:noindex
X-PUBLISHED-TTL:PT1H
BEGIN:VTIMEZONE
TZID:Europe/Helsinki
BEGIN:DAYLIGHT
TZOFFSETFROM:+0200
TZOFFSETTO:+0300
TZNAME:EEST
DTSTART:20250330T010000
END:DAYLIGHT
BEGIN:STANDARD
TZOFFSETFROM:+0300
TZOFFSETTO:+0200
TZNAME:EET
DTSTART:20251026T010000
END:STANDARD
BEGIN:DAYLIGHT
TZOFFSETFROM:+0200
TZOFFSETTO:+0300
TZNAME:EEST
DTSTART:20260329T010000
END:DAYLIGHT
BEGIN:STANDARD
TZOFFSETFROM:+0300
TZOFFSETTO:+0200
TZNAME:EET
DTSTART:20261025T010000
END:STANDARD
BEGIN:DAYLIGHT
TZOFFSETFROM:+0200
TZOFFSETTO:+0300
TZNAME:EEST
DTSTART:20270328T010000
END:DAYLIGHT
BEGIN:STANDARD
TZOFFSETFROM:+0300
TZOFFSETTO:+0200
TZNAME:EET
DTSTART:20271031T010000
END:STANDARD
END:VTIMEZONE
BEGIN:VEVENT
DTSTART;TZID=Europe/Helsinki:20260502T103000
DTEND;TZID=Europe/Helsinki:20260502T170000
DTSTAMP:20260423T120123
CREATED:20260205T084011Z
LAST-MODIFIED:20260205T084011Z
UID:1916-1777717800-1777741200@meatmastersa.co.za
SUMMARY:Oostelike Meatmaster klub veiling
DESCRIPTION:
URL:https://meatmastersa.co.za/event/oostelike-meatmaster-klub-veiling-3/
LOCATION:standerton
END:VEVENT
BEGIN:VEVENT
DTSTART;TZID=Europe/Helsinki:20260509T103000
DTEND;TZID=Europe/Helsinki:20260509T170000
DTSTAMP:20260423T120123
CREATED:20260205T084204Z
LAST-MODIFIED:20260205T084204Z
UID:1920-1778322600-1778346000@meatmastersa.co.za
SUMMARY:Young Guns veiling
DESCRIPTION:
URL:https://meatmastersa.co.za/event/young-guns-veiling/
LOCATION:Fire & Wine Venue\, Pretoria\, South Africa
END:VEVENT
BEGIN:VEVENT
DTSTART;TZID=Europe/Helsinki:20260521T103000
DTEND;TZID=Europe/Helsinki:20260521T170000
DTSTAMP:20260423T120123
CREATED:20260205T084305Z
LAST-MODIFIED:20260205T084305Z
UID:1922-1779359400-1779382800@meatmastersa.co.za
SUMMARY:Sentraal Karoo veiling
DESCRIPTION:
URL:https://meatmastersa.co.za/event/sentraal-karoo-veiling-2/
LOCATION:Graaf Reinett
END:VEVENT
BEGIN:VEVENT
DTSTART;TZID=Europe/Helsinki:20260523T103000
DTEND;TZID=Europe/Helsinki:20260523T170000
DTSTAMP:20260423T120123
CREATED:20260205T084407Z
LAST-MODIFIED:20260205T084407Z
UID:1924-1779532200-1779555600@meatmastersa.co.za
SUMMARY:Bosveld Meatmaster klub veiling
DESCRIPTION:
URL:https://meatmastersa.co.za/event/bosveld-meatmaster-klub-veiling-2/
LOCATION:Bela-Bela
END:VEVENT
END:VCALENDAR